BEGIN:VCALENDAR
CALSCALE:GREGORIAN
X-WR-TIMEZONE;VALUE=TEXT:GMT
PRODID:PEAK Corporation - piCal -
X-WR-CALNAME;VALUE=TEXT:練習
VERSION:2.0
METHOD:PUBLISH
BEGIN:VTIMEZONE
TZID:GMT
BEGIN:STANDARD
DTSTART:19390101T000000
TZOFFSETFROM:+0000
TZOFFSETTO:+0000
TZNAME:GMT
END:STANDARD
END:VTIMEZONE
BEGIN:VEVENT
DTSTART:20221007T073000Z
DTEND:20221007T093000Z
LOCATION:八木山小学校
TRANSP:OPAQUE
SEQUENCE:0
UID:pical060-22604c274c4130343320de96e8f51e90
DTSTAMP:20220914T090343Z
CATEGORIES:
DESCRIPTION:
SUMMARY:練習
PRIORITY:0
CLASS:PUBLIC
END:VEVENT
END:VCALENDAR
