BEGIN:VCALENDAR
CALSCALE:GREGORIAN
X-WR-TIMEZONE;VALUE=TEXT:GMT
PRODID:PEAK Corporation - piCal -
X-WR-CALNAME;VALUE=TEXT:練習
VERSION:2.0
METHOD:PUBLISH
BEGIN:VTIMEZONE
TZID:Etc/GMT-9
BEGIN:STANDARD
DTSTART:19390101T000000
TZOFFSETFROM:+0900
TZOFFSETTO:+0900
TZNAME:Etc/GMT-9
END:STANDARD
END:VTIMEZONE
BEGIN:VEVENT
DTSTART;TZID=Etc/GMT-9:20140110T160000
DTEND;TZID=Etc/GMT-9:20140110T180000
LOCATION:八木山小
TRANSP:OPAQUE
SEQUENCE:0
UID:pical060-4ff03f06bc614b9f3c74c7485e34c8a1
DTSTAMP:20140201T011521Z
CATEGORIES:
DESCRIPTION:雨天の場合体育館
SUMMARY:練習
RRULE:FREQ=WEEKLY;INTERVAL=1;BYDAY=TU,FR;UNTIL=20140131T145959Z;WKST=SU
PRIORITY:0
CLASS:PUBLIC
END:VEVENT
END:VCALENDAR
