BEGIN:VCALENDAR
CALSCALE:GREGORIAN
X-WR-TIMEZONE;VALUE=TEXT:GMT
PRODID:PEAK Corporation - piCal -
X-WR-CALNAME;VALUE=TEXT:練習
VERSION:2.0
METHOD:PUBLISH
BEGIN:VTIMEZONE
TZID:Etc/GMT-9
BEGIN:STANDARD
DTSTART:19390101T000000
TZOFFSETFROM:+0900
TZOFFSETTO:+0900
TZNAME:Etc/GMT-9
END:STANDARD
END:VTIMEZONE
BEGIN:VEVENT
DTSTART;TZID=Etc/GMT-9:20171001T130000
DTEND;TZID=Etc/GMT-9:20171001T153000
LOCATION:八木山小校庭
TRANSP:OPAQUE
SEQUENCE:5
UID:pical060-e8c74816f4be7445abe9981ab88aa3ff
DTSTAMP:20170927T140617Z
CATEGORIES:
DESCRIPTION:
SUMMARY:練習
RRULE:FREQ=WEEKLY;INTERVAL=1;BYDAY=SU,SA;UNTIL=20171031T145959Z;WKST=SU
PRIORITY:0
CLASS:PUBLIC
END:VEVENT
END:VCALENDAR
